Workbook

Sheet fuelTab
A1: _id,distance,liters,cost,cost_liters,note,date,full,vehicle_key | B1: =FIND(",",$A1,1) -> 4 | C1: =FIND(",",$A$1,B1+1) -> 13 | D1: =FIND(",",$A$1,C1+1) -> 20 | E1: =FIND(",",$A$1,D1+1) -> 25 | F1: =FIND(",",$A$1,E1+1) -> 37 | G1: =FIND(",",$A$1,F1+1) -> 42 | H1: =FIND(",",$A$1,G1+1) -> 47 | I1: =FIND(",",$A$1,H1+1) -> 52
A2: 1,53250,29.7000007629394,50.0,1.68350160121918,,1396384393820,0,1 | B2: =FIND(",",$A2,1) -> 2 | C2: =FIND(",",$A2,B2+1) -> 8 | D2: =FIND(",",$A2,C2+1) -> 25 | E2: =FIND(",",$A2,D2+1) -> 30 | F2: =FIND(",",$A2,E2+1) -> 47 | G2: =FIND(",",$A2,F2+1) -> 48 | H2: =FIND(",",$A2,G2+1) -> 62 | I2: =FIND(",",$A2,H2+1) -> 64
A3: 2,53463,39.0299987792969,66.0,1.69100701808929,,1396816515327,1,1 | B3: =FIND(",",$A3,1) -> 2 | C3: =FIND(",",$A3,B3+1) -> 8 | D3: =FIND(",",$A3,C3+1) -> 25 | E3: =FIND(",",$A3,D3+1) -> 30 | F3: =FIND(",",$A3,E3+1) -> 47 | G3: =FIND(",",$A3,F3+1) -> 48 | H3: =FIND(",",$A3,G3+1) -> 62 | I3: =FIND(",",$A3,H3+1) -> 64
A4: 3,53841,43.9500007629395,75.0,1.70648455619812,,1398717407693,1,1 | B4: =FIND(",",$A4,1) -> 2 | C4: =FIND(",",$A4,B4+1) -> 8 | D4: =FIND(",",$A4,C4+1) -> 25 | E4: =FIND(",",$A4,D4+1) -> 30 | F4: =FIND(",",$A4,E4+1) -> 47 | G4: =FIND(",",$A4,F4+1) -> 48 | H4: =FIND(",",$A4,G4+1) -> 62 | I4: =FIND(",",$A4,H4+1) -> 64
A5: 4,53952,16.7399997711182,30.0,1.79211473464966,,1398976686412,1,1 | B5: =FIND(",",$A5,1) -> 2 | C5: =FIND(",",$A5,B5+1) -> 8 | D5: =FIND(",",$A5,C5+1) -> 25 | E5: =FIND(",",$A5,D5+1) -> 30 | F5: =FIND(",",$A5,E5+1) -> 47 | G5: =FIND(",",$A5,F5+1) -> 48 | H5: =FIND(",",$A5,G5+1) -> 62 | I5: =FIND(",",$A5,H5+1) -> 64
A6: 5,54535,42.3800010681152,72.0,1.69891452789307,,1399667962585,1,1 | B6: =FIND(",",$A6,1) -> 2 | C6: =FIND(",",$A6,B6+1) -> 8 | D6: =FIND(",",$A6,C6+1) -> 25 | E6: =FIND(",",$A6,D6+1) -> 30 | F6: =FIND(",",$A6,E6+1) -> 47 | G6: =FIND(",",$A6,F6+1) -> 48 | H6: =FIND(",",$A6,G6+1) -> 62 | I6: =FIND(",",$A6,H6+1) -> 64
A7: 6,54899,16.6499996185303,30.0,1.80180180072784,,1400704859848,0,1 | B7: =FIND(",",$A7,1) -> 2 | C7: =FIND(",",$A7,B7+1) -> 8 | D7: =FIND(",",$A7,C7+1) -> 25 | E7: =FIND(",",$A7,D7+1) -> 30 | F7: =FIND(",",$A7,E7+1) -> 47 | G7: =FIND(",",$A7,F7+1) -> 48 | H7: =FIND(",",$A7,G7+1) -> 62 | I7: =FIND(",",$A7,H7+1) -> 64
A8: 7,55006,38.2700004577637,65.0,1.69845831394196,,1401223323732,1,1 | B8: =FIND(",",$A8,1) -> 2 | C8: =FIND(",",$A8,B8+1) -> 8 | D8: =FIND(",",$A8,C8+1) -> 25 | E8: =FIND(",",$A8,D8+1) -> 30 | F8: =FIND(",",$A8,E8+1) -> 47 | G8: =FIND(",",$A8,F8+1) -> 48 | H8: =FIND(",",$A8,G8+1) -> 62 | I8: =FIND(",",$A8,H8+1) -> 64
A9: 8,55436,43.1100006103516,80.0,1.85571789741516,,1401741761848,1,1 | B9: =FIND(",",$A9,1) -> 2 | C9: =FIND(",",$A9,B9+1) -> 8 | D9: =FIND(",",$A9,C9+1) -> 25 | E9: =FIND(",",$A9,D9+1) -> 30 | F9: =FIND(",",$A9,E9+1) -> 47 | G9: =FIND(",",$A9,F9+1) -> 48 | H9: =FIND(",",$A9,G9+1) -> 62 | I9: =FIND(",",$A9,H9+1) -> 64

Sheet Estrazione
A1: DATI ORIGINALI | K1: CONVERSIONI MIE
A2: =MID(fuelTab!$A1,1,fuelTab!B1-1) -> _id | B2: =MID(fuelTab!$A1,fuelTab!B1+1,fuelTab!C1-fuelTab!B1-1) -> distance | C2: =MID(fuelTab!$A1,fuelTab!C1+1,fuelTab!D1-fuelTab!C1-1) -> liters | D2: =MID(fuelTab!$A1,fuelTab!D1+1,fuelTab!E1-fuelTab!D1-1) -> cost | E2: =MID(fuelTab!$A1,fuelTab!E1+1,fuelTab!F1-fuelTab!E1-1) -> cost_liters | F2: =MID(fuelTab!$A1,fuelTab!F1+1,fuelTab!G1-fuelTab!F1-1) -> note | G2: =MID(fuelTab!$A1,fuelTab!G1+1,fuelTab!H1-fuelTab!G1-1) -> date | H2: =MID(fuelTab!$A1,fuelTab!H1+1,fuelTab!I1-fuelTab!H1-1) -> full | I2: =RIGHT(fuelTab!A1,LEN(fuelTab!A1)-fuelTab!I1) -> vehicle_key | K2: DATA | L2: DISTANZA | M2: LITRI | N2: €/LITRO | O2: COSTO | P2: PIENO
A3: =VALUE(TRIM(MID(fuelTab!$A2,1,fuelTab!B2-1))) -> 1 | B3: =VALUE(TRIM(MID(fuelTab!$A2,fuelTab!B2+1,fuelTab!C2-fuelTab!B2-1))) -> 53250 | C3: =MID(fuelTab!$A2,fuelTab!C2+1,fuelTab!D2-fuelTab!C2-1) -> 29.7000007629394 | D3: =MID(fuelTab!$A2,fuelTab!D2+1,fuelTab!E2-fuelTab!D2-1) -> 50.0 | E3: =MID(fuelTab!$A2,fuelTab!E2+1,fuelTab!F2-fuelTab!E2-1) -> 1.68350160121918 | F3: =MID(fuelTab!$A2,fuelTab!F2+1,fuelTab!G2-fuelTab!F2-1) | G3: =VALUE(TRIM(MID(fuelTab!$A2,fuelTab!G2+1,fuelTab!H2-fuelTab!G2-1))) -> 1396384393820 | H3: =VALUE(TRIM(MID(fuelTab!$A2,fuelTab!H2+1,fuelTab!I2-fuelTab!H2-1))) -> 0 | I3: =RIGHT(fuelTab!A2,LEN(fuelTab!A2)-fuelTab!I2) -> 1 | K3: =TEXT(((((G3/1000)/60)/60)/24)+DATE(1970,1,1)+(2/24),"gg/mm/aaaa") -> 01/04/2014 | L3: -- | M3: =VALUE(C3)/10000000000000 -> 29.700001 | N3: =VALUE(E3)/100000000000000 -> 1.6835016 | O3: =M3*N3 -> 49.999999 | P3: =IF(H3=0,"Parziale","Pieno") -> Parziale
A4: =VALUE(TRIM(MID(fuelTab!$A3,1,fuelTab!B3-1))) -> 2 | B4: =VALUE(TRIM(MID(fuelTab!$A3,fuelTab!B3+1,fuelTab!C3-fuelTab!B3-1))) -> 53463 | C4: =MID(fuelTab!$A3,fuelTab!C3+1,fuelTab!D3-fuelTab!C3-1) -> 39.0299987792969 | D4: =MID(fuelTab!$A3,fuelTab!D3+1,fuelTab!E3-fuelTab!D3-1) -> 66.0 | E4: =MID(fuelTab!$A3,fuelTab!E3+1,fuelTab!F3-fuelTab!E3-1) -> 1.69100701808929 | F4: =MID(fuelTab!$A3,fuelTab!F3+1,fuelTab!G3-fuelTab!F3-1) | G4: =VALUE(TRIM(MID(fuelTab!$A3,fuelTab!G3+1,fuelTab!H3-fuelTab!G3-1))) -> 1396816515327 | H4: =VALUE(TRIM(MID(fuelTab!$A3,fuelTab!H3+1,fuelTab!I3-fuelTab!H3-1))) -> 1 | I4: =RIGHT(fuelTab!A3,LEN(fuelTab!A3)-fuelTab!I3) -> 1 | K4: =TEXT(((((G4/1000)/60)/60)/24)+DATE(1970,1,1)+(2/24),"gg/mm/aaaa") -> 06/04/2014 | L4: =+B4-B3 -> 213 | M4: =VALUE(C4)/10000000000000 -> 39.029999 | N4: =VALUE(E4)/100000000000000 -> 1.691007 | O4: =M4*N4 -> 66.000002 | P4: =IF(H4=0,"Parziale","Pieno") -> Pieno
A5: =VALUE(TRIM(MID(fuelTab!$A4,1,fuelTab!B4-1))) -> 3 | B5: =VALUE(TRIM(MID(fuelTab!$A4,fuelTab!B4+1,fuelTab!C4-fuelTab!B4-1))) -> 53841 | C5: =MID(fuelTab!$A4,fuelTab!C4+1,fuelTab!D4-fuelTab!C4-1) -> 43.9500007629395 | D5: =MID(fuelTab!$A4,fuelTab!D4+1,fuelTab!E4-fuelTab!D4-1) -> 75.0 | E5: =MID(fuelTab!$A4,fuelTab!E4+1,fuelTab!F4-fuelTab!E4-1) -> 1.70648455619812 | F5: =MID(fuelTab!$A4,fuelTab!F4+1,fuelTab!G4-fuelTab!F4-1) | G5: =VALUE(TRIM(MID(fuelTab!$A4,fuelTab!G4+1,fuelTab!H4-fuelTab!G4-1))) -> 1398717407693 | H5: =VALUE(TRIM(MID(fuelTab!$A4,fuelTab!H4+1,fuelTab!I4-fuelTab!H4-1))) -> 1 | I5: =RIGHT(fuelTab!A4,LEN(fuelTab!A4)-fuelTab!I4) -> 1 | K5: =TEXT(((((G5/1000)/60)/60)/24)+DATE(1970,1,1)+(2/24),"gg/mm/aaaa") -> 28/04/2014 | L5: =+B5-B4 -> 378 | M5: =VALUE(C5)/10000000000000 -> 43.950001 | N5: =VALUE(E5)/100000000000000 -> 1.7064846 | O5: =M5*N5 -> 74.999998 | P5: =IF(H5=0,"Parziale","Pieno") -> Pieno
A6: =VALUE(TRIM(MID(fuelTab!$A5,1,fuelTab!B5-1))) -> 4 | B6: =VALUE(TRIM(MID(fuelTab!$A5,fuelTab!B5+1,fuelTab!C5-fuelTab!B5-1))) -> 53952 | C6: =MID(fuelTab!$A5,fuelTab!C5+1,fuelTab!D5-fuelTab!C5-1) -> 16.7399997711182 | D6: =MID(fuelTab!$A5,fuelTab!D5+1,fuelTab!E5-fuelTab!D5-1) -> 30.0 | E6: =MID(fuelTab!$A5,fuelTab!E5+1,fuelTab!F5-fuelTab!E5-1) -> 1.79211473464966 | F6: =MID(fuelTab!$A5,fuelTab!F5+1,fuelTab!G5-fuelTab!F5-1) | G6: =VALUE(TRIM(MID(fuelTab!$A5,fuelTab!G5+1,fuelTab!H5-fuelTab!G5-1))) -> 1398976686412 | H6: =VALUE(TRIM(MID(fuelTab!$A5,fuelTab!H5+1,fuelTab!I5-fuelTab!H5-1))) -> 1 | I6: =RIGHT(fuelTab!A5,LEN(fuelTab!A5)-fuelTab!I5) -> 1 | K6: =TEXT(((((G6/1000)/60)/60)/24)+DATE(1970,1,1)+(2/24),"gg/mm/aaaa") -> 01/05/2014 | L6: =+B6-B5 -> 111 | M6: =VALUE(C6)/10000000000000 -> 16.74 | N6: =VALUE(E6)/100000000000000 -> 1.7921147 | O6: =M6*N6 -> 30 | P6: =IF(H6=0,"Parziale","Pieno") -> Pieno
A7: =VALUE(TRIM(MID(fuelTab!$A6,1,fuelTab!B6-1))) -> 5 | B7: =VALUE(TRIM(MID(fuelTab!$A6,fuelTab!B6+1,fuelTab!C6-fuelTab!B6-1))) -> 54535 | C7: =MID(fuelTab!$A6,fuelTab!C6+1,fuelTab!D6-fuelTab!C6-1) -> 42.3800010681152 | D7: =MID(fuelTab!$A6,fuelTab!D6+1,fuelTab!E6-fuelTab!D6-1) -> 72.0 | E7: =MID(fuelTab!$A6,fuelTab!E6+1,fuelTab!F6-fuelTab!E6-1) -> 1.69891452789307 | F7: =MID(fuelTab!$A6,fuelTab!F6+1,fuelTab!G6-fuelTab!F6-1) | G7: =VALUE(TRIM(MID(fuelTab!$A6,fuelTab!G6+1,fuelTab!H6-fuelTab!G6-1))) -> 1399667962585 | H7: =VALUE(TRIM(MID(fuelTab!$A6,fuelTab!H6+1,fuelTab!I6-fuelTab!H6-1))) -> 1 | I7: =RIGHT(fuelTab!A6,LEN(fuelTab!A6)-fuelTab!I6) -> 1 | K7: =TEXT(((((G7/1000)/60)/60)/24)+DATE(1970,1,1)+(2/24),"gg/mm/aaaa") -> 09/05/2014 | L7: =+B7-B6 -> 583 | M7: =VALUE(C7)/10000000000000 -> 42.380001 | N7: =VALUE(E7)/100000000000000 -> 1.6989145 | O7: =M7*N7 -> 72 | P7: =IF(H7=0,"Parziale","Pieno") -> Pieno
A8: =VALUE(TRIM(MID(fuelTab!$A7,1,fuelTab!B7-1))) -> 6 | B8: =VALUE(TRIM(MID(fuelTab!$A7,fuelTab!B7+1,fuelTab!C7-fuelTab!B7-1))) -> 54899 | C8: =MID(fuelTab!$A7,fuelTab!C7+1,fuelTab!D7-fuelTab!C7-1) -> 16.6499996185303 | D8: =MID(fuelTab!$A7,fuelTab!D7+1,fuelTab!E7-fuelTab!D7-1) -> 30.0 | E8: =MID(fuelTab!$A7,fuelTab!E7+1,fuelTab!F7-fuelTab!E7-1) -> 1.80180180072784 | F8: =MID(fuelTab!$A7,fuelTab!F7+1,fuelTab!G7-fuelTab!F7-1) | G8: =VALUE(TRIM(MID(fuelTab!$A7,fuelTab!G7+1,fuelTab!H7-fuelTab!G7-1))) -> 1400704859848 | H8: =VALUE(TRIM(MID(fuelTab!$A7,fuelTab!H7+1,fuelTab!I7-fuelTab!H7-1))) -> 0 | I8: =RIGHT(fuelTab!A7,LEN(fuelTab!A7)-fuelTab!I7) -> 1 | K8: =TEXT(((((G8/1000)/60)/60)/24)+DATE(1970,1,1)+(2/24),"gg/mm/aaaa") -> 21/05/2014 | L8: =+B8-B7 -> 364 | M8: =VALUE(C8)/10000000000000 -> 16.65 | N8: =VALUE(E8)/100000000000000 -> 1.8018018 | O8: =M8*N8 -> 29.999999 | P8: =IF(H8=0,"Parziale","Pieno") -> Parziale
A9: =VALUE(TRIM(MID(fuelTab!$A8,1,fuelTab!B8-1))) -> 7 | B9: =VALUE(TRIM(MID(fuelTab!$A8,fuelTab!B8+1,fuelTab!C8-fuelTab!B8-1))) -> 55006 | C9: =MID(fuelTab!$A8,fuelTab!C8+1,fuelTab!D8-fuelTab!C8-1) -> 38.2700004577637 | D9: =MID(fuelTab!$A8,fuelTab!D8+1,fuelTab!E8-fuelTab!D8-1) -> 65.0 | E9: =MID(fuelTab!$A8,fuelTab!E8+1,fuelTab!F8-fuelTab!E8-1) -> 1.69845831394196 | F9: =MID(fuelTab!$A8,fuelTab!F8+1,fuelTab!G8-fuelTab!F8-1) | G9: =VALUE(TRIM(MID(fuelTab!$A8,fuelTab!G8+1,fuelTab!H8-fuelTab!G8-1))) -> 1401223323732 | H9: =VALUE(TRIM(MID(fuelTab!$A8,fuelTab!H8+1,fuelTab!I8-fuelTab!H8-1))) -> 1 | I9: =RIGHT(fuelTab!A8,LEN(fuelTab!A8)-fuelTab!I8) -> 1 | K9: =TEXT(((((G9/1000)/60)/60)/24)+DATE(1970,1,1)+(2/24),"gg/mm/aaaa") -> 27/05/2014 | L9: =+B9-B8 -> 107 | M9: =VALUE(C9)/10000000000000 -> 38.27 | N9: =VALUE(E9)/100000000000000 -> 1.6984583 | O9: =M9*N9 -> 65 | P9: =IF(H9=0,"Parziale","Pieno") -> Pieno
A10: =VALUE(TRIM(MID(fuelTab!$A9,1,fuelTab!B9-1))) -> 8 | B10: =VALUE(TRIM(MID(fuelTab!$A9,fuelTab!B9+1,fuelTab!C9-fuelTab!B9-1))) -> 55436 | C10: =MID(fuelTab!$A9,fuelTab!C9+1,fuelTab!D9-fuelTab!C9-1) -> 43.1100006103516 | D10: =MID(fuelTab!$A9,fuelTab!D9+1,fuelTab!E9-fuelTab!D9-1) -> 80.0 | E10: =MID(fuelTab!$A9,fuelTab!E9+1,fuelTab!F9-fuelTab!E9-1) -> 1.85571789741516 | F10: =MID(fuelTab!$A9,fuelTab!F9+1,fuelTab!G9-fuelTab!F9-1) | G10: =VALUE(TRIM(MID(fuelTab!$A9,fuelTab!G9+1,fuelTab!H9-fuelTab!G9-1))) -> 1401741761848 | H10: =VALUE(TRIM(MID(fuelTab!$A9,fuelTab!H9+1,fuelTab!I9-fuelTab!H9-1))) -> 1 | I10: =RIGHT(fuelTab!A9,LEN(fuelTab!A9)-fuelTab!I9) -> 1 | K10: =TEXT(((((G10/1000)/60)/60)/24)+DATE(1970,1,1)+(2/24),"gg/mm/aaaa") -> 02/06/2014 | L10: =+B10-B9 -> 430 | M10: =VALUE(C10)/10000000000000 -> 43.110001 | N10: =VALUE(E10)/100000000000000 -> 1.8557179 | O10: =M10*N10 -> 80 | P10: =IF(H10=0,"Parziale","Pieno") -> Pieno
