Workbook

Sheet Principale
A1: Joni's Tuning notation system
B7: =IF(Tabelle!$B$15=1,"C","DO") -> DO | D7: =IF(AND(Tabelle!$B$10=1,Tabelle!$B$15=1),"C#",IF(AND(Tabelle!$B$10=2,Tabelle!$B$15=1),"Db",IF(AND(Tabelle!$B$10=1,Tabelle!$B$15=2),"DO#","REb"))) -> DO# | F7: =IF(Tabelle!$B$15=1,"D","RE") -> RE | H7: =IF(AND(Tabelle!$B$10=1,Tabelle!$B$15=1),"D#",IF(AND(Tabelle!$B$10=2,Tabelle!$B$15=1),"Eb",IF(AND(Tabelle!$B$10=1,Tabelle!$B$15=2),"RE#","MIb"))) -> RE# | J7: =IF(Tabelle!$B$15=1,"E","MI") -> MI | L7: =IF(Tabelle!$B$15=1,"F","FA") -> FA
B9: =IF(AND(Tabelle!$B$10=1,Tabelle!$B$15=1),"F#",IF(AND(Tabelle!$B$10=2,Tabelle!$B$15=1),"Gb",IF(AND(Tabelle!$B$10=1,Tabelle!$B$15=2),"FA#","SOLb"))) -> FA# | D9: =IF(Tabelle!$B$15=1,"G","SOL") -> SOL | F9: =IF(AND(Tabelle!$B$10=1,Tabelle!$B$15=1),"G#",IF(AND(Tabelle!$B$10=2,Tabelle!$B$15=1),"Ab",IF(AND(Tabelle!$B$10=1,Tabelle!$B$15=2),"SOL#","LAb"))) -> SOL# | H9: =IF(Tabelle!$B$15=1,"A","LA") -> LA | J9: =IF(AND(Tabelle!$B$10=1,Tabelle!$B$15=1),"A#",IF(AND(Tabelle!$B$10=2,Tabelle!$B$15=1),"Bb",IF(AND(Tabelle!$B$10=1,Tabelle!$B$15=2),"LA#","SIb"))) -> LA# | L9: =IF(Tabelle!$B$15=1,"B","SI") -> SI
J12: Intervallo | M12: Nota
A14: 5^ corda | J14: 5 | M14: =IF(AND(Tabelle!$B$10=1,Tabelle!$B$15=1),HLOOKUP(Tabelle!$B$20,Tabelle!$D$10:$O$23,J14+2,0),IF(AND(Tabelle!$B$10=2,Tabelle!$B$15=1),HLOOKUP(Tabelle!$B$20,Tabelle!$D$27:$O$40,J14+2,0),IF(AND(Tabelle!$B$10=1,Tabelle!$B$15=2),HLOOKUP(Tabelle!$B$20,Tabelle!$Q$10:$AB$23,J14+2,0),IF(AND(Tabelle!$B$10=2,Tabelle!$B$15=2),HLOOKUP(Tabelle!$B$20,Tabelle!$Q$27:$AB$40,J14+2,0))))) -> LA | N14: =IF(J14=12,"8va","")
A17: 4^ corda | J17: 5 | M17: =IF(AND(Tabelle!$B$10=1,Tabelle!$B$15=1),HLOOKUP($M$14,Tabelle!$D$11:$O$23,J17+1,0),IF(AND(Tabelle!$B$10=2,Tabelle!$B$15=1),HLOOKUP($M$14,Tabelle!$D$28:$O$40,J17+1,0),IF(AND(Tabelle!$B$10=1,Tabelle!$B$15=2),HLOOKUP($M$14,Tabelle!$Q$11:$AB$23,J17+1,0),IF(AND(Tabelle!$B$10=2,Tabelle!$B$15=2),HLOOKUP($M$14,Tabelle!$Q$28:$AB$40,J17+1,0))))) -> RE | N17: =IF(J17=12,"8va","")
A20: 3^ corda | J20: 5 | M20: =IF(AND(Tabelle!$B$10=1,Tabelle!$B$15=1),HLOOKUP($M$17,Tabelle!$D$11:$O$23,J20+1,0),IF(AND(Tabelle!$B$10=2,Tabelle!$B$15=1),HLOOKUP($M$17,Tabelle!$D$28:$O$40,J20+1,0),IF(AND(Tabelle!$B$10=1,Tabelle!$B$15=2),HLOOKUP($M$17,Tabelle!$Q$11:$AB$23,J20+1,0),IF(AND(Tabelle!$B$10=2,Tabelle!$B$15=2),HLOOKUP($M$17,Tabelle!$Q$28:$AB$40,J20+1,0))))) -> SOL | N20: =IF(J20=12,"8va","")
A23: 2^ corda | J23: 4 | M23: =IF(AND(Tabelle!$B$10=1,Tabelle!$B$15=1),HLOOKUP($M$20,Tabelle!$D$11:$O$23,J23+1,0),IF(AND(Tabelle!$B$10=2,Tabelle!$B$15=1),HLOOKUP($M$20,Tabelle!$D$28:$O$40,J23+1,0),IF(AND(Tabelle!$B$10=1,Tabelle!$B$15=2),HLOOKUP($M$20,Tabelle!$Q$11:$AB$23,J23+1,0),IF(AND(Tabelle!$B$10=2,Tabelle!$B$15=2),HLOOKUP($M$20,Tabelle!$Q$28:$AB$40,J23+1,0))))) -> SI | N23: =IF(J23=12,"8va","")
A26: 1^ corda | J26: 5 | M26: =IF(AND(Tabelle!$B$10=1,Tabelle!$B$15=1),HLOOKUP($M$23,Tabelle!$D$11:$O$23,J26+1,0),IF(AND(Tabelle!$B$10=2,Tabelle!$B$15=1),HLOOKUP($M$23,Tabelle!$D$28:$O$40,J26+1,0),IF(AND(Tabelle!$B$10=1,Tabelle!$B$15=2),HLOOKUP($M$23,Tabelle!$Q$11:$AB$23,J26+1,0),IF(AND(Tabelle!$B$10=2,Tabelle!$B$15=2),HLOOKUP($M$23,Tabelle!$Q$28:$AB$40,J26+1,0))))) -> MI | N26: =IF(J26=12,"8va","")
B28: 12 | C28: 11 | D28: 10 | E28: 9 | F28: 8 | G28: 7 | H28: 6 | I28: 5 | J28: 4 | K28: 3 | L28: 2 | M28: 1
B29: =IF(AND(Tabelle!$B$10=1,Tabelle!$B$15=1),HLOOKUP(C29,Tabelle!$D$11:$O$23,2,0),IF(AND(Tabelle!$B$10=2,Tabelle!$B$15=1),HLOOKUP(C29,Tabelle!$D$28:$O$40,2,0),IF(AND(Tabelle!$B$10=1,Tabelle!$B$15=2),HLOOKUP(C29,Tabelle!$Q$11:$AB$23,2,0),IF(AND(Tabelle!$B$10=2,Tabelle!$B$15=2),HLOOKUP(C29,Tabelle!$Q$28:$AB$40,2,0))))) -> MI | C29: =IF(AND(Tabelle!$B$10=1,Tabelle!$B$15=1),HLOOKUP(D29,Tabelle!$D$11:$O$23,2,0),IF(AND(Tabelle!$B$10=2,Tabelle!$B$15=1),HLOOKUP(D29,Tabelle!$D$28:$O$40,2,0),IF(AND(Tabelle!$B$10=1,Tabelle!$B$15=2),HLOOKUP(D29,Tabelle!$Q$11:$AB$23,2,0),IF(AND(Tabelle!$B$10=2,Tabelle!$B$15=2),HLOOKUP(D29,Tabelle!$Q$28:$AB$40,2,0))))) -> RE# | D29: =IF(AND(Tabelle!$B$10=1,Tabelle!$B$15=1),HLOOKUP(E29,Tabelle!$D$11:$O$23,2,0),IF(AND(Tabelle!$B$10=2,Tabelle!$B$15=1),HLOOKUP(E29,Tabelle!$D$28:$O$40,2,0),IF(AND(Tabelle!$B$10=1,Tabelle!$B$15=2),HLOOKUP(E29,Tabelle!$Q$11:$AB$23,2,0),IF(AND(Tabelle!$B$10=2,Tabelle!$B$15=2),HLOOKUP(E29,Tabelle!$Q$28:$AB$40,2,0))))) -> RE | E29: =IF(AND(Tabelle!$B$10=1,Tabelle!$B$15=1),HLOOKUP(F29,Tabelle!$D$11:$O$23,2,0),IF(AND(Tabelle!$B$10=2,Tabelle!$B$15=1),HLOOKUP(F29,Tabelle!$D$28:$O$40,2,0),IF(AND(Tabelle!$B$10=1,Tabelle!$B$15=2),HLOOKUP(F29,Tabelle!$Q$11:$AB$23,2,0),IF(AND(Tabelle!$B$10=2,Tabelle!$B$15=2),HLOOKUP(F29,Tabelle!$Q$28:$AB$40,2,0))))) -> DO# | F29: =IF(AND(Tabelle!$B$10=1,Tabelle!$B$15=1),HLOOKUP(G29,Tabelle!$D$11:$O$23,2,0),IF(AND(Tabelle!$B$10=2,Tabelle!$B$15=1),HLOOKUP(G29,Tabelle!$D$28:$O$40,2,0),IF(AND(Tabelle!$B$10=1,Tabelle!$B$15=2),HLOOKUP(G29,Tabelle!$Q$11:$AB$23,2,0),IF(AND(Tabelle!$B$10=2,Tabelle!$B$15=2),HLOOKUP(G29,Tabelle!$Q$28:$AB$40,2,0))))) -> DO | G29: =IF(AND(Tabelle!$B$10=1,Tabelle!$B$15=1),HLOOKUP(H29,Tabelle!$D$11:$O$23,2,0),IF(AND(Tabelle!$B$10=2,Tabelle!$B$15=1),HLOOKUP(H29,Tabelle!$D$28:$O$40,2,0),IF(AND(Tabelle!$B$10=1,Tabelle!$B$15=2),HLOOKUP(H29,Tabelle!$Q$11:$AB$23,2,0),IF(AND(Tabelle!$B$10=2,Tabelle!$B$15=2),HLOOKUP(H29,Tabelle!$Q$28:$AB$40,2,0))))) -> SI | H29: =IF(AND(Tabelle!$B$10=1,Tabelle!$B$15=1),HLOOKUP(I29,Tabelle!$D$11:$O$23,2,0),IF(AND(Tabelle!$B$10=2,Tabelle!$B$15=1),HLOOKUP(I29,Tabelle!$D$28:$O$40,2,0),IF(AND(Tabelle!$B$10=1,Tabelle!$B$15=2),HLOOKUP(I29,Tabelle!$Q$11:$AB$23,2,0),IF(AND(Tabelle!$B$10=2,Tabelle!$B$15=2),HLOOKUP(I29,Tabelle!$Q$28:$AB$40,2,0))))) -> LA# | I29: =IF(AND(Tabelle!$B$10=1,Tabelle!$B$15=1),HLOOKUP(J29,Tabelle!$D$11:$O$23,2,0),IF(AND(Tabelle!$B$10=2,Tabelle!$B$15=1),HLOOKUP(J29,Tabelle!$D$28:$O$40,2,0),IF(AND(Tabelle!$B$10=1,Tabelle!$B$15=2),HLOOKUP(J29,Tabelle!$Q$11:$AB$23,2,0),IF(AND(Tabelle!$B$10=2,Tabelle!$B$15=2),HLOOKUP(J29,Tabelle!$Q$28:$AB$40,2,0))))) -> LA | ... M29: =IF(AND(Tabelle!$B$10=1,Tabelle!$B$15=1),HLOOKUP(N29,Tabelle!$D$11:$O$23,2,0),IF(AND(Tabelle!$B$10=2,Tabelle!$B$15=1),HLOOKUP(N29,Tabelle!$D$28:$O$40,2,0),IF(AND(Tabelle!$B$10=1,Tabelle!$B$15=2),HLOOKUP(N29,Tabelle!$Q$11:$AB$23,2,0),IF(AND(Tabelle!$B$10=2,Tabelle!$B$15=2),HLOOKUP(N29,Tabelle!$Q$28:$AB$40,2,0))))) -> FA | N29: =IF(AND(Tabelle!$B$10=1,Tabelle!$B$15=1),HLOOKUP(Tabelle!$B$20,Tabelle!$D$10:$O$23,2,0),IF(AND(Tabelle!$B$10=2,Tabelle!$B$15=1),HLOOKUP(Tabelle!$B$20,Tabelle!$D$27:$O$40,2,0),IF(AND(Tabelle!$B$10=1,Tabelle!$B$15=2),HLOOKUP(Tabelle!$B$20,Tabelle!$Q$10:$AB$23,2,0),IF(AND(Tabelle!$B$10=2,Tabelle!$B$15=2),HLOOKUP(Tabelle!$B$20,Tabelle!$Q$27:$AB$40,2,0))))) -> MI
B30: =IF(AND(Tabelle!$B$10=1,Tabelle!$B$15=1),HLOOKUP(C30,Tabelle!$D$11:$O$23,2,0),IF(AND(Tabelle!$B$10=2,Tabelle!$B$15=1),HLOOKUP(C30,Tabelle!$D$28:$O$40,2,0),IF(AND(Tabelle!$B$10=1,Tabelle!$B$15=2),HLOOKUP(C30,Tabelle!$Q$11:$AB$23,2,0),IF(AND(Tabelle!$B$10=2,Tabelle!$B$15=2),HLOOKUP(C30,Tabelle!$Q$28:$AB$40,2,0))))) -> LA | C30: =IF(AND(Tabelle!$B$10=1,Tabelle!$B$15=1),HLOOKUP(D30,Tabelle!$D$11:$O$23,2,0),IF(AND(Tabelle!$B$10=2,Tabelle!$B$15=1),HLOOKUP(D30,Tabelle!$D$28:$O$40,2,0),IF(AND(Tabelle!$B$10=1,Tabelle!$B$15=2),HLOOKUP(D30,Tabelle!$Q$11:$AB$23,2,0),IF(AND(Tabelle!$B$10=2,Tabelle!$B$15=2),HLOOKUP(D30,Tabelle!$Q$28:$AB$40,2,0))))) -> SOL# | D30: =IF(AND(Tabelle!$B$10=1,Tabelle!$B$15=1),HLOOKUP(E30,Tabelle!$D$11:$O$23,2,0),IF(AND(Tabelle!$B$10=2,Tabelle!$B$15=1),HLOOKUP(E30,Tabelle!$D$28:$O$40,2,0),IF(AND(Tabelle!$B$10=1,Tabelle!$B$15=2),HLOOKUP(E30,Tabelle!$Q$11:$AB$23,2,0),IF(AND(Tabelle!$B$10=2,Tabelle!$B$15=2),HLOOKUP(E30,Tabelle!$Q$28:$AB$40,2,0))))) -> SOL | E30: =IF(AND(Tabelle!$B$10=1,Tabelle!$B$15=1),HLOOKUP(F30,Tabelle!$D$11:$O$23,2,0),IF(AND(Tabelle!$B$10=2,Tabelle!$B$15=1),HLOOKUP(F30,Tabelle!$D$28:$O$40,2,0),IF(AND(Tabelle!$B$10=1,Tabelle!$B$15=2),HLOOKUP(F30,Tabelle!$Q$11:$AB$23,2,0),IF(AND(Tabelle!$B$10=2,Tabelle!$B$15=2),HLOOKUP(F30,Tabelle!$Q$28:$AB$40,2,0))))) -> FA# | F30: =IF(AND(Tabelle!$B$10=1,Tabelle!$B$15=1),HLOOKUP(G30,Tabelle!$D$11:$O$23,2,0),IF(AND(Tabelle!$B$10=2,Tabelle!$B$15=1),HLOOKUP(G30,Tabelle!$D$28:$O$40,2,0),IF(AND(Tabelle!$B$10=1,Tabelle!$B$15=2),HLOOKUP(G30,Tabelle!$Q$11:$AB$23,2,0),IF(AND(Tabelle!$B$10=2,Tabelle!$B$15=2),HLOOKUP(G30,Tabelle!$Q$28:$AB$40,2,0))))) -> FA | G30: =IF(AND(Tabelle!$B$10=1,Tabelle!$B$15=1),HLOOKUP(H30,Tabelle!$D$11:$O$23,2,0),IF(AND(Tabelle!$B$10=2,Tabelle!$B$15=1),HLOOKUP(H30,Tabelle!$D$28:$O$40,2,0),IF(AND(Tabelle!$B$10=1,Tabelle!$B$15=2),HLOOKUP(H30,Tabelle!$Q$11:$AB$23,2,0),IF(AND(Tabelle!$B$10=2,Tabelle!$B$15=2),HLOOKUP(H30,Tabelle!$Q$28:$AB$40,2,0))))) -> MI | H30: =IF(AND(Tabelle!$B$10=1,Tabelle!$B$15=1),HLOOKUP(I30,Tabelle!$D$11:$O$23,2,0),IF(AND(Tabelle!$B$10=2,Tabelle!$B$15=1),HLOOKUP(I30,Tabelle!$D$28:$O$40,2,0),IF(AND(Tabelle!$B$10=1,Tabelle!$B$15=2),HLOOKUP(I30,Tabelle!$Q$11:$AB$23,2,0),IF(AND(Tabelle!$B$10=2,Tabelle!$B$15=2),HLOOKUP(I30,Tabelle!$Q$28:$AB$40,2,0))))) -> RE# | I30: =IF(AND(Tabelle!$B$10=1,Tabelle!$B$15=1),HLOOKUP(J30,Tabelle!$D$11:$O$23,2,0),IF(AND(Tabelle!$B$10=2,Tabelle!$B$15=1),HLOOKUP(J30,Tabelle!$D$28:$O$40,2,0),IF(AND(Tabelle!$B$10=1,Tabelle!$B$15=2),HLOOKUP(J30,Tabelle!$Q$11:$AB$23,2,0),IF(AND(Tabelle!$B$10=2,Tabelle!$B$15=2),HLOOKUP(J30,Tabelle!$Q$28:$AB$40,2,0))))) -> RE | ... M30: =IF(AND(Tabelle!$B$10=1,Tabelle!$B$15=1),HLOOKUP(N30,Tabelle!$D$11:$O$23,2,0),IF(AND(Tabelle!$B$10=2,Tabelle!$B$15=1),HLOOKUP(N30,Tabelle!$D$28:$O$40,2,0),IF(AND(Tabelle!$B$10=1,Tabelle!$B$15=2),HLOOKUP(N30,Tabelle!$Q$11:$AB$23,2,0),IF(AND(Tabelle!$B$10=2,Tabelle!$B$15=2),HLOOKUP(N30,Tabelle!$Q$28:$AB$40,2,0))))) -> LA# | N30: =+M14 -> LA
B31: =IF(AND(Tabelle!$B$10=1,Tabelle!$B$15=1),HLOOKUP(C31,Tabelle!$D$11:$O$23,2,0),IF(AND(Tabelle!$B$10=2,Tabelle!$B$15=1),HLOOKUP(C31,Tabelle!$D$28:$O$40,2,0),IF(AND(Tabelle!$B$10=1,Tabelle!$B$15=2),HLOOKUP(C31,Tabelle!$Q$11:$AB$23,2,0),IF(AND(Tabelle!$B$10=2,Tabelle!$B$15=2),HLOOKUP(C31,Tabelle!$Q$28:$AB$40,2,0))))) -> RE | C31: =IF(AND(Tabelle!$B$10=1,Tabelle!$B$15=1),HLOOKUP(D31,Tabelle!$D$11:$O$23,2,0),IF(AND(Tabelle!$B$10=2,Tabelle!$B$15=1),HLOOKUP(D31,Tabelle!$D$28:$O$40,2,0),IF(AND(Tabelle!$B$10=1,Tabelle!$B$15=2),HLOOKUP(D31,Tabelle!$Q$11:$AB$23,2,0),IF(AND(Tabelle!$B$10=2,Tabelle!$B$15=2),HLOOKUP(D31,Tabelle!$Q$28:$AB$40,2,0))))) -> DO# | D31: =IF(AND(Tabelle!$B$10=1,Tabelle!$B$15=1),HLOOKUP(E31,Tabelle!$D$11:$O$23,2,0),IF(AND(Tabelle!$B$10=2,Tabelle!$B$15=1),HLOOKUP(E31,Tabelle!$D$28:$O$40,2,0),IF(AND(Tabelle!$B$10=1,Tabelle!$B$15=2),HLOOKUP(E31,Tabelle!$Q$11:$AB$23,2,0),IF(AND(Tabelle!$B$10=2,Tabelle!$B$15=2),HLOOKUP(E31,Tabelle!$Q$28:$AB$40,2,0))))) -> DO | E31: =IF(AND(Tabelle!$B$10=1,Tabelle!$B$15=1),HLOOKUP(F31,Tabelle!$D$11:$O$23,2,0),IF(AND(Tabelle!$B$10=2,Tabelle!$B$15=1),HLOOKUP(F31,Tabelle!$D$28:$O$40,2,0),IF(AND(Tabelle!$B$10=1,Tabelle!$B$15=2),HLOOKUP(F31,Tabelle!$Q$11:$AB$23,2,0),IF(AND(Tabelle!$B$10=2,Tabelle!$B$15=2),HLOOKUP(F31,Tabelle!$Q$28:$AB$40,2,0))))) -> SI | F31: =IF(AND(Tabelle!$B$10=1,Tabelle!$B$15=1),HLOOKUP(G31,Tabelle!$D$11:$O$23,2,0),IF(AND(Tabelle!$B$10=2,Tabelle!$B$15=1),HLOOKUP(G31,Tabelle!$D$28:$O$40,2,0),IF(AND(Tabelle!$B$10=1,Tabelle!$B$15=2),HLOOKUP(G31,Tabelle!$Q$11:$AB$23,2,0),IF(AND(Tabelle!$B$10=2,Tabelle!$B$15=2),HLOOKUP(G31,Tabelle!$Q$28:$AB$40,2,0))))) -> LA# | G31: =IF(AND(Tabelle!$B$10=1,Tabelle!$B$15=1),HLOOKUP(H31,Tabelle!$D$11:$O$23,2,0),IF(AND(Tabelle!$B$10=2,Tabelle!$B$15=1),HLOOKUP(H31,Tabelle!$D$28:$O$40,2,0),IF(AND(Tabelle!$B$10=1,Tabelle!$B$15=2),HLOOKUP(H31,Tabelle!$Q$11:$AB$23,2,0),IF(AND(Tabelle!$B$10=2,Tabelle!$B$15=2),HLOOKUP(H31,Tabelle!$Q$28:$AB$40,2,0))))) -> LA | H31: =IF(AND(Tabelle!$B$10=1,Tabelle!$B$15=1),HLOOKUP(I31,Tabelle!$D$11:$O$23,2,0),IF(AND(Tabelle!$B$10=2,Tabelle!$B$15=1),HLOOKUP(I31,Tabelle!$D$28:$O$40,2,0),IF(AND(Tabelle!$B$10=1,Tabelle!$B$15=2),HLOOKUP(I31,Tabelle!$Q$11:$AB$23,2,0),IF(AND(Tabelle!$B$10=2,Tabelle!$B$15=2),HLOOKUP(I31,Tabelle!$Q$28:$AB$40,2,0))))) -> SOL# | I31: =IF(AND(Tabelle!$B$10=1,Tabelle!$B$15=1),HLOOKUP(J31,Tabelle!$D$11:$O$23,2,0),IF(AND(Tabelle!$B$10=2,Tabelle!$B$15=1),HLOOKUP(J31,Tabelle!$D$28:$O$40,2,0),IF(AND(Tabelle!$B$10=1,Tabelle!$B$15=2),HLOOKUP(J31,Tabelle!$Q$11:$AB$23,2,0),IF(AND(Tabelle!$B$10=2,Tabelle!$B$15=2),HLOOKUP(J31,Tabelle!$Q$28:$AB$40,2,0))))) -> SOL | ... M31: =IF(AND(Tabelle!$B$10=1,Tabelle!$B$15=1),HLOOKUP(N31,Tabelle!$D$11:$O$23,2,0),IF(AND(Tabelle!$B$10=2,Tabelle!$B$15=1),HLOOKUP(N31,Tabelle!$D$28:$O$40,2,0),IF(AND(Tabelle!$B$10=1,Tabelle!$B$15=2),HLOOKUP(N31,Tabelle!$Q$11:$AB$23,2,0),IF(AND(Tabelle!$B$10=2,Tabelle!$B$15=2),HLOOKUP(N31,Tabelle!$Q$28:$AB$40,2,0))))) -> RE# | N31: =+M17 -> RE
B32: =IF(AND(Tabelle!$B$10=1,Tabelle!$B$15=1),HLOOKUP(C32,Tabelle!$D$11:$O$23,2,0),IF(AND(Tabelle!$B$10=2,Tabelle!$B$15=1),HLOOKUP(C32,Tabelle!$D$28:$O$40,2,0),IF(AND(Tabelle!$B$10=1,Tabelle!$B$15=2),HLOOKUP(C32,Tabelle!$Q$11:$AB$23,2,0),IF(AND(Tabelle!$B$10=2,Tabelle!$B$15=2),HLOOKUP(C32,Tabelle!$Q$28:$AB$40,2,0))))) -> SOL | C32: =IF(AND(Tabelle!$B$10=1,Tabelle!$B$15=1),HLOOKUP(D32,Tabelle!$D$11:$O$23,2,0),IF(AND(Tabelle!$B$10=2,Tabelle!$B$15=1),HLOOKUP(D32,Tabelle!$D$28:$O$40,2,0),IF(AND(Tabelle!$B$10=1,Tabelle!$B$15=2),HLOOKUP(D32,Tabelle!$Q$11:$AB$23,2,0),IF(AND(Tabelle!$B$10=2,Tabelle!$B$15=2),HLOOKUP(D32,Tabelle!$Q$28:$AB$40,2,0))))) -> FA# | D32: =IF(AND(Tabelle!$B$10=1,Tabelle!$B$15=1),HLOOKUP(E32,Tabelle!$D$11:$O$23,2,0),IF(AND(Tabelle!$B$10=2,Tabelle!$B$15=1),HLOOKUP(E32,Tabelle!$D$28:$O$40,2,0),IF(AND(Tabelle!$B$10=1,Tabelle!$B$15=2),HLOOKUP(E32,Tabelle!$Q$11:$AB$23,2,0),IF(AND(Tabelle!$B$10=2,Tabelle!$B$15=2),HLOOKUP(E32,Tabelle!$Q$28:$AB$40,2,0))))) -> FA | E32: =IF(AND(Tabelle!$B$10=1,Tabelle!$B$15=1),HLOOKUP(F32,Tabelle!$D$11:$O$23,2,0),IF(AND(Tabelle!$B$10=2,Tabelle!$B$15=1),HLOOKUP(F32,Tabelle!$D$28:$O$40,2,0),IF(AND(Tabelle!$B$10=1,Tabelle!$B$15=2),HLOOKUP(F32,Tabelle!$Q$11:$AB$23,2,0),IF(AND(Tabelle!$B$10=2,Tabelle!$B$15=2),HLOOKUP(F32,Tabelle!$Q$28:$AB$40,2,0))))) -> MI | F32: =IF(AND(Tabelle!$B$10=1,Tabelle!$B$15=1),HLOOKUP(G32,Tabelle!$D$11:$O$23,2,0),IF(AND(Tabelle!$B$10=2,Tabelle!$B$15=1),HLOOKUP(G32,Tabelle!$D$28:$O$40,2,0),IF(AND(Tabelle!$B$10=1,Tabelle!$B$15=2),HLOOKUP(G32,Tabelle!$Q$11:$AB$23,2,0),IF(AND(Tabelle!$B$10=2,Tabelle!$B$15=2),HLOOKUP(G32,Tabelle!$Q$28:$AB$40,2,0))))) -> RE# | G32: =IF(AND(Tabelle!$B$10=1,Tabelle!$B$15=1),HLOOKUP(H32,Tabelle!$D$11:$O$23,2,0),IF(AND(Tabelle!$B$10=2,Tabelle!$B$15=1),HLOOKUP(H32,Tabelle!$D$28:$O$40,2,0),IF(AND(Tabelle!$B$10=1,Tabelle!$B$15=2),HLOOKUP(H32,Tabelle!$Q$11:$AB$23,2,0),IF(AND(Tabelle!$B$10=2,Tabelle!$B$15=2),HLOOKUP(H32,Tabelle!$Q$28:$AB$40,2,0))))) -> RE | H32: =IF(AND(Tabelle!$B$10=1,Tabelle!$B$15=1),HLOOKUP(I32,Tabelle!$D$11:$O$23,2,0),IF(AND(Tabelle!$B$10=2,Tabelle!$B$15=1),HLOOKUP(I32,Tabelle!$D$28:$O$40,2,0),IF(AND(Tabelle!$B$10=1,Tabelle!$B$15=2),HLOOKUP(I32,Tabelle!$Q$11:$AB$23,2,0),IF(AND(Tabelle!$B$10=2,Tabelle!$B$15=2),HLOOKUP(I32,Tabelle!$Q$28:$AB$40,2,0))))) -> DO# | I32: =IF(AND(Tabelle!$B$10=1,Tabelle!$B$15=1),HLOOKUP(J32,Tabelle!$D$11:$O$23,2,0),IF(AND(Tabelle!$B$10=2,Tabelle!$B$15=1),HLOOKUP(J32,Tabelle!$D$28:$O$40,2,0),IF(AND(Tabelle!$B$10=1,Tabelle!$B$15=2),HLOOKUP(J32,Tabelle!$Q$11:$AB$23,2,0),IF(AND(Tabelle!$B$10=2,Tabelle!$B$15=2),HLOOKUP(J32,Tabelle!$Q$28:$AB$40,2,0))))) -> DO | ... M32: =IF(AND(Tabelle!$B$10=1,Tabelle!$B$15=1),HLOOKUP(N32,Tabelle!$D$11:$O$23,2,0),IF(AND(Tabelle!$B$10=2,Tabelle!$B$15=1),HLOOKUP(N32,Tabelle!$D$28:$O$40,2,0),IF(AND(Tabelle!$B$10=1,Tabelle!$B$15=2),HLOOKUP(N32,Tabelle!$Q$11:$AB$23,2,0),IF(AND(Tabelle!$B$10=2,Tabelle!$B$15=2),HLOOKUP(N32,Tabelle!$Q$28:$AB$40,2,0))))) -> SOL# | N32: =+M20 -> SOL
B33: =IF(AND(Tabelle!$B$10=1,Tabelle!$B$15=1),HLOOKUP(C33,Tabelle!$D$11:$O$23,2,0),IF(AND(Tabelle!$B$10=2,Tabelle!$B$15=1),HLOOKUP(C33,Tabelle!$D$28:$O$40,2,0),IF(AND(Tabelle!$B$10=1,Tabelle!$B$15=2),HLOOKUP(C33,Tabelle!$Q$11:$AB$23,2,0),IF(AND(Tabelle!$B$10=2,Tabelle!$B$15=2),HLOOKUP(C33,Tabelle!$Q$28:$AB$40,2,0))))) -> SI | C33: =IF(AND(Tabelle!$B$10=1,Tabelle!$B$15=1),HLOOKUP(D33,Tabelle!$D$11:$O$23,2,0),IF(AND(Tabelle!$B$10=2,Tabelle!$B$15=1),HLOOKUP(D33,Tabelle!$D$28:$O$40,2,0),IF(AND(Tabelle!$B$10=1,Tabelle!$B$15=2),HLOOKUP(D33,Tabelle!$Q$11:$AB$23,2,0),IF(AND(Tabelle!$B$10=2,Tabelle!$B$15=2),HLOOKUP(D33,Tabelle!$Q$28:$AB$40,2,0))))) -> LA# | D33: =IF(AND(Tabelle!$B$10=1,Tabelle!$B$15=1),HLOOKUP(E33,Tabelle!$D$11:$O$23,2,0),IF(AND(Tabelle!$B$10=2,Tabelle!$B$15=1),HLOOKUP(E33,Tabelle!$D$28:$O$40,2,0),IF(AND(Tabelle!$B$10=1,Tabelle!$B$15=2),HLOOKUP(E33,Tabelle!$Q$11:$AB$23,2,0),IF(AND(Tabelle!$B$10=2,Tabelle!$B$15=2),HLOOKUP(E33,Tabelle!$Q$28:$AB$40,2,0))))) -> LA | E33: =IF(AND(Tabelle!$B$10=1,Tabelle!$B$15=1),HLOOKUP(F33,Tabelle!$D$11:$O$23,2,0),IF(AND(Tabelle!$B$10=2,Tabelle!$B$15=1),HLOOKUP(F33,Tabelle!$D$28:$O$40,2,0),IF(AND(Tabelle!$B$10=1,Tabelle!$B$15=2),HLOOKUP(F33,Tabelle!$Q$11:$AB$23,2,0),IF(AND(Tabelle!$B$10=2,Tabelle!$B$15=2),HLOOKUP(F33,Tabelle!$Q$28:$AB$40,2,0))))) -> SOL# | F33: =IF(AND(Tabelle!$B$10=1,Tabelle!$B$15=1),HLOOKUP(G33,Tabelle!$D$11:$O$23,2,0),IF(AND(Tabelle!$B$10=2,Tabelle!$B$15=1),HLOOKUP(G33,Tabelle!$D$28:$O$40,2,0),IF(AND(Tabelle!$B$10=1,Tabelle!$B$15=2),HLOOKUP(G33,Tabelle!$Q$11:$AB$23,2,0),IF(AND(Tabelle!$B$10=2,Tabelle!$B$15=2),HLOOKUP(G33,Tabelle!$Q$28:$AB$40,2,0))))) -> SOL | G33: =IF(AND(Tabelle!$B$10=1,Tabelle!$B$15=1),HLOOKUP(H33,Tabelle!$D$11:$O$23,2,0),IF(AND(Tabelle!$B$10=2,Tabelle!$B$15=1),HLOOKUP(H33,Tabelle!$D$28:$O$40,2,0),IF(AND(Tabelle!$B$10=1,Tabelle!$B$15=2),HLOOKUP(H33,Tabelle!$Q$11:$AB$23,2,0),IF(AND(Tabelle!$B$10=2,Tabelle!$B$15=2),HLOOKUP(H33,Tabelle!$Q$28:$AB$40,2,0))))) -> FA# | H33: =IF(AND(Tabelle!$B$10=1,Tabelle!$B$15=1),HLOOKUP(I33,Tabelle!$D$11:$O$23,2,0),IF(AND(Tabelle!$B$10=2,Tabelle!$B$15=1),HLOOKUP(I33,Tabelle!$D$28:$O$40,2,0),IF(AND(Tabelle!$B$10=1,Tabelle!$B$15=2),HLOOKUP(I33,Tabelle!$Q$11:$AB$23,2,0),IF(AND(Tabelle!$B$10=2,Tabelle!$B$15=2),HLOOKUP(I33,Tabelle!$Q$28:$AB$40,2,0))))) -> FA | I33: =IF(AND(Tabelle!$B$10=1,Tabelle!$B$15=1),HLOOKUP(J33,Tabelle!$D$11:$O$23,2,0),IF(AND(Tabelle!$B$10=2,Tabelle!$B$15=1),HLOOKUP(J33,Tabelle!$D$28:$O$40,2,0),IF(AND(Tabelle!$B$10=1,Tabelle!$B$15=2),HLOOKUP(J33,Tabelle!$Q$11:$AB$23,2,0),IF(AND(Tabelle!$B$10=2,Tabelle!$B$15=2),HLOOKUP(J33,Tabelle!$Q$28:$AB$40,2,0))))) -> MI | ... M33: =IF(AND(Tabelle!$B$10=1,Tabelle!$B$15=1),HLOOKUP(N33,Tabelle!$D$11:$O$23,2,0),IF(AND(Tabelle!$B$10=2,Tabelle!$B$15=1),HLOOKUP(N33,Tabelle!$D$28:$O$40,2,0),IF(AND(Tabelle!$B$10=1,Tabelle!$B$15=2),HLOOKUP(N33,Tabelle!$Q$11:$AB$23,2,0),IF(AND(Tabelle!$B$10=2,Tabelle!$B$15=2),HLOOKUP(N33,Tabelle!$Q$28:$AB$40,2,0))))) -> DO | N33: =+M23 -> SI
B34: =IF(AND(Tabelle!$B$10=1,Tabelle!$B$15=1),HLOOKUP(C34,Tabelle!$D$11:$O$23,2,0),IF(AND(Tabelle!$B$10=2,Tabelle!$B$15=1),HLOOKUP(C34,Tabelle!$D$28:$O$40,2,0),IF(AND(Tabelle!$B$10=1,Tabelle!$B$15=2),HLOOKUP(C34,Tabelle!$Q$11:$AB$23,2,0),IF(AND(Tabelle!$B$10=2,Tabelle!$B$15=2),HLOOKUP(C34,Tabelle!$Q$28:$AB$40,2,0))))) -> MI | C34: =IF(AND(Tabelle!$B$10=1,Tabelle!$B$15=1),HLOOKUP(D34,Tabelle!$D$11:$O$23,2,0),IF(AND(Tabelle!$B$10=2,Tabelle!$B$15=1),HLOOKUP(D34,Tabelle!$D$28:$O$40,2,0),IF(AND(Tabelle!$B$10=1,Tabelle!$B$15=2),HLOOKUP(D34,Tabelle!$Q$11:$AB$23,2,0),IF(AND(Tabelle!$B$10=2,Tabelle!$B$15=2),HLOOKUP(D34,Tabelle!$Q$28:$AB$40,2,0))))) -> RE# | D34: =IF(AND(Tabelle!$B$10=1,Tabelle!$B$15=1),HLOOKUP(E34,Tabelle!$D$11:$O$23,2,0),IF(AND(Tabelle!$B$10=2,Tabelle!$B$15=1),HLOOKUP(E34,Tabelle!$D$28:$O$40,2,0),IF(AND(Tabelle!$B$10=1,Tabelle!$B$15=2),HLOOKUP(E34,Tabelle!$Q$11:$AB$23,2,0),IF(AND(Tabelle!$B$10=2,Tabelle!$B$15=2),HLOOKUP(E34,Tabelle!$Q$28:$AB$40,2,0))))) -> RE | E34: =IF(AND(Tabelle!$B$10=1,Tabelle!$B$15=1),HLOOKUP(F34,Tabelle!$D$11:$O$23,2,0),IF(AND(Tabelle!$B$10=2,Tabelle!$B$15=1),HLOOKUP(F34,Tabelle!$D$28:$O$40,2,0),IF(AND(Tabelle!$B$10=1,Tabelle!$B$15=2),HLOOKUP(F34,Tabelle!$Q$11:$AB$23,2,0),IF(AND(Tabelle!$B$10=2,Tabelle!$B$15=2),HLOOKUP(F34,Tabelle!$Q$28:$AB$40,2,0))))) -> DO# | F34: =IF(AND(Tabelle!$B$10=1,Tabelle!$B$15=1),HLOOKUP(G34,Tabelle!$D$11:$O$23,2,0),IF(AND(Tabelle!$B$10=2,Tabelle!$B$15=1),HLOOKUP(G34,Tabelle!$D$28:$O$40,2,0),IF(AND(Tabelle!$B$10=1,Tabelle!$B$15=2),HLOOKUP(G34,Tabelle!$Q$11:$AB$23,2,0),IF(AND(Tabelle!$B$10=2,Tabelle!$B$15=2),HLOOKUP(G34,Tabelle!$Q$28:$AB$40,2,0))))) -> DO | G34: =IF(AND(Tabelle!$B$10=1,Tabelle!$B$15=1),HLOOKUP(H34,Tabelle!$D$11:$O$23,2,0),IF(AND(Tabelle!$B$10=2,Tabelle!$B$15=1),HLOOKUP(H34,Tabelle!$D$28:$O$40,2,0),IF(AND(Tabelle!$B$10=1,Tabelle!$B$15=2),HLOOKUP(H34,Tabelle!$Q$11:$AB$23,2,0),IF(AND(Tabelle!$B$10=2,Tabelle!$B$15=2),HLOOKUP(H34,Tabelle!$Q$28:$AB$40,2,0))))) -> SI | H34: =IF(AND(Tabelle!$B$10=1,Tabelle!$B$15=1),HLOOKUP(I34,Tabelle!$D$11:$O$23,2,0),IF(AND(Tabelle!$B$10=2,Tabelle!$B$15=1),HLOOKUP(I34,Tabelle!$D$28:$O$40,2,0),IF(AND(Tabelle!$B$10=1,Tabelle!$B$15=2),HLOOKUP(I34,Tabelle!$Q$11:$AB$23,2,0),IF(AND(Tabelle!$B$10=2,Tabelle!$B$15=2),HLOOKUP(I34,Tabelle!$Q$28:$AB$40,2,0))))) -> LA# | I34: =IF(AND(Tabelle!$B$10=1,Tabelle!$B$15=1),HLOOKUP(J34,Tabelle!$D$11:$O$23,2,0),IF(AND(Tabelle!$B$10=2,Tabelle!$B$15=1),HLOOKUP(J34,Tabelle!$D$28:$O$40,2,0),IF(AND(Tabelle!$B$10=1,Tabelle!$B$15=2),HLOOKUP(J34,Tabelle!$Q$11:$AB$23,2,0),IF(AND(Tabelle!$B$10=2,Tabelle!$B$15=2),HLOOKUP(J34,Tabelle!$Q$28:$AB$40,2,0))))) -> LA | ... M34: =IF(AND(Tabelle!$B$10=1,Tabelle!$B$15=1),HLOOKUP(N34,Tabelle!$D$11:$O$23,2,0),IF(AND(Tabelle!$B$10=2,Tabelle!$B$15=1),HLOOKUP(N34,Tabelle!$D$28:$O$40,2,0),IF(AND(Tabelle!$B$10=1,Tabelle!$B$15=2),HLOOKUP(N34,Tabelle!$Q$11:$AB$23,2,0),IF(AND(Tabelle!$B$10=2,Tabelle!$B$15=2),HLOOKUP(N34,Tabelle!$Q$28:$AB$40,2,0))))) -> FA | N34: =+M26 -> MI
A36: Un'idea ispirata da
A37: http://jonimitchell.com/music/notation.cfm

Sheet Istruzioni
A1: Istruzioni foglio "Principale"
A2: Seleziona la visualizzazione dell'alterazione preferita: diesis (#) o bemolle (b)
A3: Seleziona la visualizzazione delle note secondo la notazione preferita: americana (A B C D E F G) o italiana (DO RE MI FA SOL LA SI)
A4: Seleziona la nota Root a cui accordare la 6^ corda (una nota qualsiasi all'interno di un'ottava)
A5: Con i 5 slider imposti gli Intervalli dell'accordatura per le restanti corde (dalla 5^ alla 1^)
A6: Un Intervallo = 0 significa che la corda è accordata all'unisono con la precedente
A7: Un Intervallo = 12 significa che la corda è accordata un'ottava più alta della precedente (viene visualizzato "8va" accanto alla Nota)
A8: ...Fatto!
A10: Spiegazioni formule foglio "Principale"
A11: La cella M14 (la Nota della 5^ corda) cerca la Nota Root selezionata nella relativa tabella, in base a alterazione e notazione selezionate
A12: Quando la trova, si sposta in basso di (intervallo+2) celle e ritorna la nota corrispondente
A13: La cella M17 (la Nota della 4^ corda) cerca la Nota della corda precedente nella tabella, in base a alterazione e notazione selezionate
... A23: Tutta la cartella è "protetta" per evitare cancellazioni accidentali, ma non c'è nessuna password

Sheet Tabelle
B1: DON'T TOUCH THIS!
B8: Alterazione selezionata da utente | D8: Tabella (usata se Alterazione = 1 e Notazione = 1) per trovare le altre note a partire dalla Root e dagli altri intervalli | Q8: Tabella (usata se Alterazione = 1 e Notazione = 2) per trovare le altre note a partire dalla Root e dagli altri intervalli
B10: 1 | D10: 1 | E10: 2 | F10: 3 | G10: 4 | H10: 5 | I10: 6 | J10: 7 | K10: 8 | L10: 9 | M10: 10 | N10: 11 | O10: 12 | Q10: 1 | R10: 2 | S10: 3 | T10: 4 | U10: 5 | V10: 6 | W10: 7 | X10: 8 | Y10: 9 | Z10: 10 | AA10: 11 | AB10: 12
D11: C | E11: C# | F11: D | G11: D# | H11: E | I11: F | J11: F# | K11: G | L11: G# | M11: A | N11: A# | O11: B | Q11: DO | R11: DO# | S11: RE | T11: RE# | U11: MI | V11: FA | W11: FA# | X11: SOL | Y11: SOL# | Z11: LA | AA11: LA# | AB11: SI
D12: C# | E12: D | F12: D# | G12: E | H12: F | I12: F# | J12: G | K12: G# | L12: A | M12: A# | N12: B | O12: C | Q12: DO# | R12: RE | S12: RE# | T12: MI | U12: FA | V12: FA# | W12: SOL | X12: SOL# | Y12: LA | Z12: LA# | AA12: SI | AB12: DO
B13: Notazione USA o ITA | D13: D | E13: D# | F13: E | G13: F | H13: F# | I13: G | J13: G# | K13: A | L13: A# | M13: B | N13: C | O13: C# | Q13: RE | R13: RE# | S13: MI | T13: FA | U13: FA# | V13: SOL | W13: SOL# | X13: LA | Y13: LA# | Z13: SI | AA13: DO | AB13: DO#
D14: D# | E14: E | F14: F | G14: F# | H14: G | I14: G# | J14: A | K14: A# | L14: B | M14: C | N14: C# | O14: D | Q14: RE# | R14: MI | S14: FA | T14: FA# | U14: SOL | V14: SOL# | W14: LA | X14: LA# | Y14: SI | Z14: DO | AA14: DO# | AB14: RE
B15: 2 | D15: E | E15: F | F15: F# | G15: G | H15: G# | I15: A | J15: A# | K15: B | L15: C | M15: C# | N15: D | O15: D# | Q15: MI | R15: FA | S15: FA# | T15: SOL | U15: SOL# | V15: LA | W15: LA# | X15: SI | Y15: DO | Z15: DO# | AA15: RE | AB15: RE#
D16: F | E16: F# | F16: G | G16: G# | H16: A | I16: A# | J16: B | K16: C | L16: C# | M16: D | N16: D# | O16: E | Q16: FA | R16: FA# | S16: SOL | T16: SOL# | U16: LA | V16: LA# | W16: SI | X16: DO | Y16: DO# | Z16: RE | AA16: RE# | AB16: MI
D17: F# | E17: G | F17: G# | G17: A | H17: A# | I17: B | J17: C | K17: C# | L17: D | M17: D# | N17: E | O17: F | Q17: FA# | R17: SOL | S17: SOL# | T17: LA | U17: LA# | V17: SI | W17: DO | X17: DO# | Y17: RE | Z17: RE# | AA17: MI | AB17: FA
B18: Nota Root selezionata da utente | D18: G | E18: G# | F18: A | G18: A# | H18: B | I18: C | J18: C# | K18: D | L18: D# | M18: E | N18: F | O18: F# | Q18: SOL | R18: SOL# | S18: LA | T18: LA# | U18: SI | V18: DO | W18: DO# | X18: RE | Y18: RE# | Z18: MI | AA18: FA | AB18: FA#
D19: G# | E19: A | F19: A# | G19: B | H19: C | I19: C# | J19: D | K19: D# | L19: E | M19: F | N19: F# | O19: G | Q19: SOL# | R19: LA | S19: LA# | T19: SI | U19: DO | V19: DO# | W19: RE | X19: RE# | Y19: MI | Z19: FA | AA19: FA# | AB19: SOL
B20: 5 | D20: A | E20: A# | F20: B | G20: C | H20: C# | I20: D | J20: D# | K20: E | L20: F | M20: F# | N20: G | O20: G# | Q20: LA | R20: LA# | S20: SI | T20: DO | U20: DO# | V20: RE | W20: RE# | X20: MI | Y20: FA | Z20: FA# | AA20: SOL | AB20: SOL#
D21: A# | E21: B | F21: C | G21: C# | H21: D | I21: D# | J21: E | K21: F | L21: F# | M21: G | N21: G# | O21: A | Q21: LA# | R21: SI | S21: DO | T21: DO# | U21: RE | V21: RE# | W21: MI | X21: FA | Y21: FA# | Z21: SOL | AA21: SOL# | AB21: LA
D22: B | E22: C | F22: C# | G22: D | H22: D# | I22: E | J22: F | K22: F# | L22: G | M22: G# | N22: A | O22: A# | Q22: SI | R22: DO | S22: DO# | T22: RE | U22: RE# | V22: MI | W22: FA | X22: FA# | Y22: SOL | Z22: SOL# | AA22: LA | AB22: LA#
D23: C | E23: C# | F23: D | G23: D# | H23: E | I23: F | J23: F# | K23: G | L23: G# | M23: A | N23: A# | O23: B | Q23: DO | R23: DO# | S23: RE | T23: RE# | U23: MI | V23: FA | W23: FA# | X23: SOL | Y23: SOL# | Z23: LA | AA23: LA# | AB23: SI
D25: Tabella (usata se Alterazione = 2 e Notazione = 1) per trovare le altre note a partire dalla Root e dagli altri intervalli | Q25: Tabella (usata se Alterazione = 2 e Notazione = 2) per trovare le altre note a partire dalla Root e dagli altri intervalli
D27: 1 | E27: 2 | F27: 3 | G27: 4 | H27: 5 | I27: 6 | J27: 7 | K27: 8 | L27: 9 | M27: 10 | N27: 11 | O27: 12 | Q27: 1 | R27: 2 | S27: 3 | T27: 4 | U27: 5 | V27: 6 | W27: 7 | X27: 8 | Y27: 9 | Z27: 10 | AA27: 11 | AB27: 12
D28: C | E28: Db | F28: D | G28: Eb | H28: E | I28: F | J28: Gb | K28: G | L28: Ab | M28: A | N28: Bb | O28: B | Q28: DO | R28: REb | S28: RE | T28: MIb | U28: MI | V28: FA | W28: SOLb | X28: SOL | Y28: LAb | Z28: LA | AA28: SIb | AB28: SI
D29: Db | E29: D | F29: Eb | G29: E | H29: F | I29: Gb | J29: G | K29: Ab | L29: A | M29: Bb | N29: B | O29: C | Q29: REb | R29: RE | S29: MIb | T29: MI | U29: FA | V29: SOLb | W29: SOL | X29: LAb | Y29: LA | Z29: SIb | AA29: SI | AB29: DO
D30: D | E30: Eb | F30: E | G30: F | H30: Gb | I30: G | J30: Ab | K30: A | L30: Bb | M30: B | N30: C | O30: Db | Q30: RE | R30: MIb | S30: MI | T30: FA | U30: SOLb | V30: SOL | W30: LAb | X30: LA | Y30: SIb | Z30: SI | AA30: DO | AB30: REb
D31: Eb | E31: E | F31: F | G31: Gb | H31: G | I31: Ab | J31: A | K31: Bb | L31: B | M31: C | N31: Db | O31: D | Q31: MIb | R31: MI | S31: FA | T31: SOLb | U31: SOL | V31: LAb | W31: LA | X31: SIb | Y31: SI | Z31: DO | AA31: REb | AB31: RE
D32: E | E32: F | F32: Gb | G32: G | H32: Ab | I32: A | J32: Bb | K32: B | L32: C | M32: Db | N32: D | O32: Eb | Q32: MI | R32: FA | S32: SOLb | T32: SOL | U32: LAb | V32: LA | W32: SIb | X32: SI | Y32: DO | Z32: REb | AA32: RE | AB32: MIb
D33: F | E33: Gb | F33: G | G33: Ab | H33: A | I33: Bb | J33: B | K33: C | L33: Db | M33: D | N33: Eb | O33: E | Q33: FA | R33: SOLb | S33: SOL | T33: LAb | U33: LA | V33: SIb | W33: SI | X33: DO | Y33: REb | Z33: RE | AA33: MIb | AB33: MI
D34: Gb | E34: G | F34: Ab | G34: A | H34: Bb | I34: B | J34: C | K34: Db | L34: D | M34: Eb | N34: E | O34: F | Q34: SOLb | R34: SOL | S34: LAb | T34: LA | U34: SIb | V34: SI | W34: DO | X34: REb | Y34: RE | Z34: MIb | AA34: MI | AB34: FA
D35: G | E35: Ab | F35: A | G35: Bb | H35: B | I35: C | J35: Db | K35: D | L35: Eb | M35: E | N35: F | O35: Gb | Q35: SOL | R35: LAb | S35: LA | T35: SIb | U35: SI | V35: DO | W35: REb | X35: RE | Y35: MIb | Z35: MI | AA35: FA | AB35: SOLb
D36: Ab | E36: A | F36: Bb | G36: B | H36: C | I36: Db | J36: D | K36: Eb | L36: E | M36: F | N36: Gb | O36: G | Q36: LAb | R36: LA | S36: SIb | T36: SI | U36: DO | V36: REb | W36: RE | X36: MIb | Y36: MI | Z36: FA | AA36: SOLb | AB36: SOL
D37: A | E37: Bb | F37: B | G37: C | H37: Db | I37: D | J37: Eb | K37: E | L37: F | M37: Gb | N37: G | O37: Ab | Q37: LA | R37: SIb | S37: SI | T37: DO | U37: REb | V37: RE | W37: MIb | X37: MI | Y37: FA | Z37: SOLb | AA37: SOL | AB37: LAb
D38: Bb | E38: B | F38: C | G38: Db | H38: D | I38: Eb | J38: E | K38: F | L38: Gb | M38: G | N38: Ab | O38: A | Q38: SIb | R38: SI | S38: DO | T38: REb | U38: RE | V38: MIb | W38: MI | X38: FA | Y38: SOLb | Z38: SOL | AA38: LAb | AB38: LA
D39: B | E39: C | F39: Db | G39: D | H39: Eb | I39: E | J39: F | K39: Gb | L39: G | M39: Ab | N39: A | O39: Bb | Q39: SI | R39: DO | S39: REb | T39: RE | U39: MIb | V39: MI | W39: FA | X39: SOLb | Y39: SOL | Z39: LAb | AA39: LA | AB39: SIb
D40: C | E40: Db | F40: D | G40: Eb | H40: E | I40: F | J40: Gb | K40: G | L40: Ab | M40: A | N40: Bb | O40: B | Q40: DO | R40: REb | S40: RE | T40: MIb | U40: MI | V40: FA | W40: SOLb | X40: SOL | Y40: LAb | Z40: LA | AA40: SIb | AB40: SI
